BEGIN:VCALENDAR
VERSION:2.0
PRODID:-//Blossburg Memorial Library - ECPv6.15.17.1//NONSGML v1.0//EN
CALSCALE:GREGORIAN
METHOD:PUBLISH
X-WR-CALNAME:Blossburg Memorial Library
X-ORIGINAL-URL:https://blossburgmemoriallibrary.com
X-WR-CALDESC:Events for Blossburg Memorial Library
REFRESH-INTERVAL;VALUE=DURATION:PT1H
X-Robots-Tag:noindex
X-PUBLISHED-TTL:PT1H
BEGIN:VTIMEZONE
TZID:UTC
BEGIN:STANDARD
TZOFFSETFROM:+0000
TZOFFSETTO:+0000
TZNAME:UTC
DTSTART:20230101T000000
END:STANDARD
END:VTIMEZONE
BEGIN:VEVENT
DTSTART;TZID=UTC:20241119T110000
DTEND;TZID=UTC:20241119T120000
DTSTAMP:20260421T042824
CREATED:20240812T220101Z
LAST-MODIFIED:20240812T220101Z
UID:10000786-1732014000-1732017600@blossburgmemoriallibrary.com
SUMMARY:Preschool Story Hour
DESCRIPTION:Kids ages 0-5 and their caregivers will listen to stories\, sing songs\, and make crafts.
URL:https://blossburgmemoriallibrary.com/event/preschool-story-hour-2/2024-11-19/
END:VEVENT
END:VCALENDAR